BEGIN:VCALENDAR
PRODID:-//eluceo/ical//2.0/EN
VERSION:2.0
CALSCALE:GREGORIAN
BEGIN:VEVENT
UID:bbd008e705383d897450bd44e1eeb199
DTSTAMP:20260424T090312Z
SUMMARY:AERO 2026 | The Bottlenecks in Business Aviation: Insights from Ope
 rators\, Flight Operations & Flight Support - A conference session support
 ed by AIN
DESCRIPTION:Daily program AERO 2026 - The Bottlenecks in Business Aviation:
  Insights from Operators\, Flight Operations & Flight Support - A conferen
 ce session supported by AIN\nLocation: AERO Business Aviation Dome Stage\n
 \nFairnamic GmbH\nNeue Messe 1 \n88046 Friedrichshafen \nGermany \n\nPhone
  +49 7541 959 95 0 \nFax +49 7541 959 95 10 \n\nGoogle Maps Route: \nhttp:
 //goo.gl/maps/wXSL8
DTSTART;TZID=Europe/Berlin:20260423T143000
DTEND;TZID=Europe/Berlin:20260423T153000
LOCATION:AERO Business Aviation Dome Stage
ORGANIZER;CN=Fairnamic GmbH:mailto:info@fairnamic.com
END:VEVENT
BEGIN:VTIMEZONE
TZID:Europe/Berlin
BEGIN:STANDARD
DTSTART:20260101T000000
TZNAME:CET
TZOFFSETTO:+0100
TZOFFSETFROM:+0100
END:STANDARD
BEGIN:DAYLIGHT
DTSTART:20260329T030000
TZNAME:CEST
TZOFFSETTO:+0200
TZOFFSETFROM:+0100
END:DAYLIGHT
BEGIN:STANDARD
DTSTART:20261025T020000
TZNAME:CET
TZOFFSETTO:+0100
TZOFFSETFROM:+0200
END:STANDARD
END:VTIMEZONE
END:VCALENDAR
