BEGIN:VCALENDAR
PRODID:-//eluceo/ical//2.0/EN
VERSION:2.0
CALSCALE:GREGORIAN
BEGIN:VEVENT
UID:6c86f773f8ef20c4b6c0bf99667f2c74
DTSTAMP:20260424T090508Z
SUMMARY:AERO 2026 | "Challenges in the Global Business Aviation Industry" -
  A conference session supported by AIN
DESCRIPTION:Daily program AERO 2026 - "Challenges in the Global Business Av
 iation Industry" - A conference session supported by AIN\nLocation: AERO B
 usiness Aviation Dome Stage\n\nFairnamic GmbH\nNeue Messe 1 \n88046 Friedr
 ichshafen \nGermany \n\nPhone +49 7541 959 95 0 \nFax +49 7541 959 95 10 \
 n\nGoogle Maps Route: \nhttp://goo.gl/maps/wXSL8
DTSTART;TZID=Europe/Berlin:20260423T123000
DTEND;TZID=Europe/Berlin:20260423T133000
LOCATION:AERO Business Aviation Dome Stage
ORGANIZER;CN=Fairnamic GmbH:mailto:info@fairnamic.com
END:VEVENT
BEGIN:VTIMEZONE
TZID:Europe/Berlin
BEGIN:STANDARD
DTSTART:20260101T000000
TZNAME:CET
TZOFFSETTO:+0100
TZOFFSETFROM:+0100
END:STANDARD
BEGIN:DAYLIGHT
DTSTART:20260329T030000
TZNAME:CEST
TZOFFSETTO:+0200
TZOFFSETFROM:+0100
END:DAYLIGHT
BEGIN:STANDARD
DTSTART:20261025T020000
TZNAME:CET
TZOFFSETTO:+0100
TZOFFSETFROM:+0200
END:STANDARD
END:VTIMEZONE
END:VCALENDAR
