BEGIN:VCALENDAR
PRODID:-//eluceo/ical//2.0/EN
VERSION:2.0
CALSCALE:GREGORIAN
BEGIN:VEVENT
UID:0364ae5b58ba440d8623d52a7fd81f43
DTSTAMP:20260424T090923Z
SUMMARY:AERO 2026 | Mutig\, sichtbar\, souverän – Frauen in der Fliegere
 i und ihre Geschichten
DESCRIPTION:Daily program AERO 2026 - Mutig\, sichtbar\, souverän – Frau
 en in der Fliegerei und ihre Geschichten\nLocation: AERO Innovation Stage 
 (Hall A7)\n\nFairnamic GmbH\nNeue Messe 1 \n88046 Friedrichshafen \nGerman
 y \n\nPhone +49 7541 959 95 0 \nFax +49 7541 959 95 10 \n\nGoogle Maps Rou
 te: \nhttp://goo.gl/maps/wXSL8
DTSTART;TZID=Europe/Berlin:20260425T100000
DTEND;TZID=Europe/Berlin:20260425T110000
LOCATION:AERO Innovation Stage (Hall A7)
ORGANIZER;CN=Fairnamic GmbH:mailto:info@fairnamic.com
END:VEVENT
BEGIN:VTIMEZONE
TZID:Europe/Berlin
BEGIN:STANDARD
DTSTART:20260101T000000
TZNAME:CET
TZOFFSETTO:+0100
TZOFFSETFROM:+0100
END:STANDARD
BEGIN:DAYLIGHT
DTSTART:20260329T030000
TZNAME:CEST
TZOFFSETTO:+0200
TZOFFSETFROM:+0100
END:DAYLIGHT
BEGIN:STANDARD
DTSTART:20261025T020000
TZNAME:CET
TZOFFSETTO:+0100
TZOFFSETFROM:+0200
END:STANDARD
END:VTIMEZONE
END:VCALENDAR
