BEGIN:VCALENDAR
PRODID:-//eluceo/ical//2.0/EN
VERSION:2.0
CALSCALE:GREGORIAN
BEGIN:VEVENT
UID:5461e6961c54ebceea2c254a2d4ce89b
DTSTAMP:20260423T104344Z
SUMMARY:AERO 2026 | Airbus PERLAN II High Altitude Record GLIDER Flights to
  the Stratosphere
DESCRIPTION:Daily program AERO 2026 - Airbus PERLAN II High Altitude Record
  GLIDER Flights to the Stratosphere\nLocation: Conference Center East\, Ro
 om Berlin\n\nFairnamic GmbH\nNeue Messe 1 \n88046 Friedrichshafen \nGerman
 y \n\nPhone +49 7541 959 95 0 \nFax +49 7541 959 95 10 \n\nGoogle Maps Rou
 te: \nhttp://goo.gl/maps/wXSL8
DTSTART;TZID=Europe/Berlin:20260423T150000
DTEND;TZID=Europe/Berlin:20260423T160000
LOCATION:Conference Center East\, Room Berlin
ORGANIZER;CN=Fairnamic GmbH:mailto:info@fairnamic.com
END:VEVENT
BEGIN:VTIMEZONE
TZID:Europe/Berlin
BEGIN:STANDARD
DTSTART:20260101T000000
TZNAME:CET
TZOFFSETTO:+0100
TZOFFSETFROM:+0100
END:STANDARD
BEGIN:DAYLIGHT
DTSTART:20260329T030000
TZNAME:CEST
TZOFFSETTO:+0200
TZOFFSETFROM:+0100
END:DAYLIGHT
BEGIN:STANDARD
DTSTART:20261025T020000
TZNAME:CET
TZOFFSETTO:+0100
TZOFFSETFROM:+0200
END:STANDARD
END:VTIMEZONE
END:VCALENDAR
