BEGIN:VCALENDAR
PRODID:-//eluceo/ical//2.0/EN
VERSION:2.0
CALSCALE:GREGORIAN
BEGIN:VEVENT
UID:1a297ca312dfff055fa946bc0400021d
DTSTAMP:20260422T125452Z
SUMMARY:AERO 2026 | Wohin gehen die Flüge? – Das Inlandsflugkonzept AIR 
 UNIQON und Brandenburger Dienstleistungen rund ums Fliegen präsentieren s
 ich
DESCRIPTION:Daily program AERO 2026 - Wohin gehen die Flüge? – Das Inlan
 dsflugkonzept AIR UNIQON und Brandenburger Dienstleistungen rund ums Flieg
 en präsentieren sich\nLocation: Gemeinschaftsstand der Hauptstadtregion B
 erlin-Brandenburg / A5-301\n\nFairnamic GmbH\nNeue Messe 1 \n88046 Friedri
 chshafen \nGermany \n\nPhone +49 7541 959 95 0 \nFax +49 7541 959 95 10 \n
 \nGoogle Maps Route: \nhttp://goo.gl/maps/wXSL8
DTSTART;TZID=Europe/Berlin:20260423T110000
DTEND;TZID=Europe/Berlin:20260423T120000
LOCATION:Gemeinschaftsstand der Hauptstadtregion Berlin-Brandenburg / A5-30
 1
ORGANIZER;CN=Fairnamic GmbH:mailto:info@fairnamic.com
END:VEVENT
BEGIN:VTIMEZONE
TZID:Europe/Berlin
BEGIN:STANDARD
DTSTART:20260101T000000
TZNAME:CET
TZOFFSETTO:+0100
TZOFFSETFROM:+0100
END:STANDARD
BEGIN:DAYLIGHT
DTSTART:20260329T030000
TZNAME:CEST
TZOFFSETTO:+0200
TZOFFSETFROM:+0100
END:DAYLIGHT
BEGIN:STANDARD
DTSTART:20261025T020000
TZNAME:CET
TZOFFSETTO:+0100
TZOFFSETFROM:+0200
END:STANDARD
END:VTIMEZONE
END:VCALENDAR
