BEGIN:VCALENDAR
PRODID:-//eluceo/ical//2.0/EN
VERSION:2.0
CALSCALE:GREGORIAN
BEGIN:VEVENT
UID:a2fe861697c408950140d018a15865c3
DTSTAMP:20260421T224833Z
SUMMARY:AERO 2026 | WORKSHOP MINGENTEC -Unbemannte Systeme in der Energie- 
 und Regionaltransformation - Von technologischer Innovation zur Emissionsr
 eduktion und systemischen Implementierung
DESCRIPTION:Daily program AERO 2026 - WORKSHOP MINGENTEC -Unbemannte System
 e in der Energie- und Regionaltransformation - Von technologischer Innovat
 ion zur Emissionsreduktion und systemischen Implementierung\nLocation: Gem
 einschaftsstand der Hauptstadtregion Berlin-Brandenburg / A5-301\n\nFairna
 mic GmbH\nNeue Messe 1 \n88046 Friedrichshafen \nGermany \n\nPhone +49 754
 1 959 95 0 \nFax +49 7541 959 95 10 \n\nGoogle Maps Route: \nhttp://goo.gl
 /maps/wXSL8
DTSTART;TZID=Europe/Berlin:20260423T130000
DTEND;TZID=Europe/Berlin:20260423T153000
LOCATION:Gemeinschaftsstand der Hauptstadtregion Berlin-Brandenburg / A5-30
 1
ORGANIZER;CN=Fairnamic GmbH:mailto:info@fairnamic.com
END:VEVENT
BEGIN:VTIMEZONE
TZID:Europe/Berlin
BEGIN:STANDARD
DTSTART:20260101T000000
TZNAME:CET
TZOFFSETTO:+0100
TZOFFSETFROM:+0100
END:STANDARD
BEGIN:DAYLIGHT
DTSTART:20260329T030000
TZNAME:CEST
TZOFFSETTO:+0200
TZOFFSETFROM:+0100
END:DAYLIGHT
BEGIN:STANDARD
DTSTART:20261025T020000
TZNAME:CET
TZOFFSETTO:+0100
TZOFFSETFROM:+0200
END:STANDARD
END:VTIMEZONE
END:VCALENDAR
