BEGIN:VCALENDAR
PRODID:-//eluceo/ical//2.0/EN
VERSION:2.0
CALSCALE:GREGORIAN
BEGIN:VEVENT
UID:be51c4a7a588e9b2f33e15030da70922
DTSTAMP:20260420T005105Z
SUMMARY:AERO 2026 | Press appointment | Textron Aviation Press Conference
DESCRIPTION:Press appointment AERO 2026 - Textron Aviation Press Conference
 \nLocation: Hall A2 | Stand 130\n\nFairnamic GmbH\nNeue Messe 1 \n88046 Fr
 iedrichshafen \nGermany \n\nPhone +49 7541 959 95 0 \nFax +49 7541 959 95 
 10 \n\nGoogle Maps Route: \nhttp://goo.gl/maps/wXSL8
DTSTART;TZID=Europe/Berlin:20260421T133000
DTEND;TZID=Europe/Berlin:20260421T143000
LOCATION:Hall A2 | Stand 130
ORGANIZER;CN=Fairnamic GmbH:mailto:info@fairnamic.com
END:VEVENT
BEGIN:VTIMEZONE
TZID:Europe/Berlin
BEGIN:STANDARD
DTSTART:20260101T000000
TZNAME:CET
TZOFFSETTO:+0100
TZOFFSETFROM:+0100
END:STANDARD
BEGIN:DAYLIGHT
DTSTART:20260329T030000
TZNAME:CEST
TZOFFSETTO:+0200
TZOFFSETFROM:+0100
END:DAYLIGHT
BEGIN:STANDARD
DTSTART:20261025T020000
TZNAME:CET
TZOFFSETTO:+0100
TZOFFSETFROM:+0200
END:STANDARD
END:VTIMEZONE
END:VCALENDAR
