BEGIN:VCALENDAR
PRODID:-//eluceo/ical//2.0/EN
VERSION:2.0
CALSCALE:GREGORIAN
BEGIN:VEVENT
UID:e5fa094196fc6d02715ed8c9f9a75077
DTSTAMP:20260423T105232Z
SUMMARY:AERO 2026 | Check in for a fascinating career in Aviation
DESCRIPTION:Daily program AERO 2026 - Check in for a fascinating career in 
 Aviation\nLocation: Conference-Center East\, Room Oslo\n\nFairnamic GmbH\n
 Neue Messe 1 \n88046 Friedrichshafen \nGermany \n\nPhone +49 7541 959 95 0
  \nFax +49 7541 959 95 10 \n\nGoogle Maps Route: \nhttp://goo.gl/maps/wXSL
 8
DTSTART;TZID=Europe/Berlin:20260424T103000
DTEND;TZID=Europe/Berlin:20260424T110000
LOCATION:Conference-Center East\, Room Oslo
ORGANIZER;CN=Fairnamic GmbH:mailto:info@fairnamic.com
END:VEVENT
BEGIN:VTIMEZONE
TZID:Europe/Berlin
BEGIN:STANDARD
DTSTART:20260101T000000
TZNAME:CET
TZOFFSETTO:+0100
TZOFFSETFROM:+0100
END:STANDARD
BEGIN:DAYLIGHT
DTSTART:20260329T030000
TZNAME:CEST
TZOFFSETTO:+0200
TZOFFSETFROM:+0100
END:DAYLIGHT
BEGIN:STANDARD
DTSTART:20261025T020000
TZNAME:CET
TZOFFSETTO:+0100
TZOFFSETFROM:+0200
END:STANDARD
END:VTIMEZONE
END:VCALENDAR
