BEGIN:VCALENDAR
PRODID:-//eluceo/ical//2.0/EN
VERSION:2.0
CALSCALE:GREGORIAN
BEGIN:VEVENT
UID:a153885b6b77b6c79239b2bfccc56474
DTSTAMP:20260423T105320Z
SUMMARY:AERO 2026 | Harmlose- / Friedhof-Spiralen
DESCRIPTION:Daily program AERO 2026 - Harmlose- / Friedhof-Spiralen\nLocati
 on: Conference Center East\, Room London\n\nFairnamic GmbH\nNeue Messe 1 \
 n88046 Friedrichshafen \nGermany \n\nPhone +49 7541 959 95 0 \nFax +49 754
 1 959 95 10 \n\nGoogle Maps Route: \nhttp://goo.gl/maps/wXSL8
DTSTART;TZID=Europe/Berlin:20260425T130000
DTEND;TZID=Europe/Berlin:20260425T140000
LOCATION:Conference Center East\, Room London
ORGANIZER;CN=Fairnamic GmbH:mailto:info@fairnamic.com
END:VEVENT
BEGIN:VTIMEZONE
TZID:Europe/Berlin
BEGIN:STANDARD
DTSTART:20260101T000000
TZNAME:CET
TZOFFSETTO:+0100
TZOFFSETFROM:+0100
END:STANDARD
BEGIN:DAYLIGHT
DTSTART:20260329T030000
TZNAME:CEST
TZOFFSETTO:+0200
TZOFFSETFROM:+0100
END:DAYLIGHT
BEGIN:STANDARD
DTSTART:20261025T020000
TZNAME:CET
TZOFFSETTO:+0100
TZOFFSETFROM:+0200
END:STANDARD
END:VTIMEZONE
END:VCALENDAR
