BEGIN:VCALENDAR
PRODID:-//eluceo/ical//2.0/EN
VERSION:2.0
CALSCALE:GREGORIAN
BEGIN:VEVENT
UID:8e495d3b254f23c3463afd41b39ea079
DTSTAMP:20260422T003546Z
SUMMARY:AERO 2026 | FOREFLIGHT ESSENTIALS: OPTIMIZING YOUR IPAD FOR VFR FLY
 ING IN EUROPE (German)
DESCRIPTION:Daily program AERO 2026 - FOREFLIGHT ESSENTIALS: OPTIMIZING YOU
 R IPAD FOR VFR FLYING IN EUROPE (German)\nLocation: Conference Center East
 \, Room London\n\nFairnamic GmbH\nNeue Messe 1 \n88046 Friedrichshafen \nG
 ermany \n\nPhone +49 7541 959 95 0 \nFax +49 7541 959 95 10 \n\nGoogle Map
 s Route: \nhttp://goo.gl/maps/wXSL8
DTSTART;TZID=Europe/Berlin:20260423T140000
DTEND;TZID=Europe/Berlin:20260423T150000
LOCATION:Conference Center East\, Room London
ORGANIZER;CN=Fairnamic GmbH:mailto:info@fairnamic.com
END:VEVENT
BEGIN:VTIMEZONE
TZID:Europe/Berlin
BEGIN:STANDARD
DTSTART:20260101T000000
TZNAME:CET
TZOFFSETTO:+0100
TZOFFSETFROM:+0100
END:STANDARD
BEGIN:DAYLIGHT
DTSTART:20260329T030000
TZNAME:CEST
TZOFFSETTO:+0200
TZOFFSETFROM:+0100
END:DAYLIGHT
BEGIN:STANDARD
DTSTART:20261025T020000
TZNAME:CET
TZOFFSETTO:+0100
TZOFFSETFROM:+0200
END:STANDARD
END:VTIMEZONE
END:VCALENDAR
