BEGIN:VCALENDAR
PRODID:-//eluceo/ical//2.0/EN
VERSION:2.0
CALSCALE:GREGORIAN
BEGIN:VEVENT
UID:6e54566b22e7175a7dc3fda93307ba72
DTSTAMP:20260420T004837Z
SUMMARY:AERO 2026 | Press appointment | Press Conference Aircraft Builders 
 Europe
DESCRIPTION:Press appointment AERO 2026 - Press Conference Aircraft Builder
 s Europe\nLocation: Hall B3 | Stand 405\n\nFairnamic GmbH\nNeue Messe 1 \n
 88046 Friedrichshafen \nGermany \n\nPhone +49 7541 959 95 0 \nFax +49 7541
  959 95 10 \n\nGoogle Maps Route: \nhttp://goo.gl/maps/wXSL8
DTSTART;TZID=Europe/Berlin:20260424T110000
DTEND;TZID=Europe/Berlin:20260424T120000
LOCATION:Hall B3 | Stand 405
ORGANIZER;CN=Fairnamic GmbH:mailto:info@fairnamic.com
END:VEVENT
BEGIN:VTIMEZONE
TZID:Europe/Berlin
BEGIN:STANDARD
DTSTART:20260101T000000
TZNAME:CET
TZOFFSETTO:+0100
TZOFFSETFROM:+0100
END:STANDARD
BEGIN:DAYLIGHT
DTSTART:20260329T030000
TZNAME:CEST
TZOFFSETTO:+0200
TZOFFSETFROM:+0100
END:DAYLIGHT
BEGIN:STANDARD
DTSTART:20261025T020000
TZNAME:CET
TZOFFSETTO:+0100
TZOFFSETFROM:+0200
END:STANDARD
END:VTIMEZONE
END:VCALENDAR
