BEGIN:VCALENDAR
PRODID:-//eluceo/ical//2.0/EN
VERSION:2.0
CALSCALE:GREGORIAN
BEGIN:VEVENT
UID:b990fc82cad257553f5976e1c6a01d8c
DTSTAMP:20260423T104200Z
SUMMARY:AERO 2026 | Luftfahrt-Bundesamt\, Referent Kai Gonet Titel der Vera
 nstaltung: "Just Culture" und "Good Airmanship" als Baustein der Flugsiche
 rheit
DESCRIPTION:Daily program AERO 2026 - Luftfahrt-Bundesamt\, Referent Kai Go
 net Titel der Veranstaltung: "Just Culture" und "Good Airmanship" als Baus
 tein der Flugsicherheit\nLocation: Conference Center East\, Room London\n\
 nFairnamic GmbH\nNeue Messe 1 \n88046 Friedrichshafen \nGermany \n\nPhone 
 +49 7541 959 95 0 \nFax +49 7541 959 95 10 \n\nGoogle Maps Route: \nhttp:/
 /goo.gl/maps/wXSL8
DTSTART;TZID=Europe/Berlin:20260423T110000
DTEND;TZID=Europe/Berlin:20260423T120000
LOCATION:Conference Center East\, Room London
ORGANIZER;CN=Fairnamic GmbH:mailto:info@fairnamic.com
END:VEVENT
BEGIN:VTIMEZONE
TZID:Europe/Berlin
BEGIN:STANDARD
DTSTART:20260101T000000
TZNAME:CET
TZOFFSETTO:+0100
TZOFFSETFROM:+0100
END:STANDARD
BEGIN:DAYLIGHT
DTSTART:20260329T030000
TZNAME:CEST
TZOFFSETTO:+0200
TZOFFSETFROM:+0100
END:DAYLIGHT
BEGIN:STANDARD
DTSTART:20261025T020000
TZNAME:CET
TZOFFSETTO:+0100
TZOFFSETFROM:+0200
END:STANDARD
END:VTIMEZONE
END:VCALENDAR
