BEGIN:VCALENDAR
PRODID:-//eluceo/ical//2.0/EN
VERSION:2.0
CALSCALE:GREGORIAN
BEGIN:VEVENT
UID:79b66fac48e7df637ba38968c33bb887
DTSTAMP:20260423T105030Z
SUMMARY:AERO 2026 | LSA Industry Presentation- MOSAIC Update
DESCRIPTION:Daily program AERO 2026 - LSA Industry Presentation- MOSAIC Upd
 ate\nLocation: Conference Center West\, Room Österreich\n\nFairnamic GmbH
 \nNeue Messe 1 \n88046 Friedrichshafen \nGermany \n\nPhone +49 7541 959 95
  0 \nFax +49 7541 959 95 10 \n\nGoogle Maps Route: \nhttp://goo.gl/maps/wX
 SL8
DTSTART;TZID=Europe/Berlin:20260423T120000
DTEND;TZID=Europe/Berlin:20260423T133000
LOCATION:Conference Center West\, Room Österreich
ORGANIZER;CN=Fairnamic GmbH:mailto:info@fairnamic.com
END:VEVENT
BEGIN:VTIMEZONE
TZID:Europe/Berlin
BEGIN:STANDARD
DTSTART:20260101T000000
TZNAME:CET
TZOFFSETTO:+0100
TZOFFSETFROM:+0100
END:STANDARD
BEGIN:DAYLIGHT
DTSTART:20260329T030000
TZNAME:CEST
TZOFFSETTO:+0200
TZOFFSETFROM:+0100
END:DAYLIGHT
BEGIN:STANDARD
DTSTART:20261025T020000
TZNAME:CET
TZOFFSETTO:+0100
TZOFFSETFROM:+0200
END:STANDARD
END:VTIMEZONE
END:VCALENDAR
