BEGIN:VCALENDAR
PRODID:-//eluceo/ical//2.0/EN
VERSION:2.0
CALSCALE:GREGORIAN
BEGIN:VEVENT
UID:6749c4a5181efe0d230e50caa38d42c9
DTSTAMP:20260423T105319Z
SUMMARY:AERO 2026 | FlugMed Tauglichkeit\, PPL Medical
DESCRIPTION:Daily program AERO 2026 - FlugMed Tauglichkeit\, PPL Medical\nL
 ocation: Conference Center East\, Room London\n\nFairnamic GmbH\nNeue Mess
 e 1 \n88046 Friedrichshafen \nGermany \n\nPhone +49 7541 959 95 0 \nFax +4
 9 7541 959 95 10 \n\nGoogle Maps Route: \nhttp://goo.gl/maps/wXSL8
DTSTART;TZID=Europe/Berlin:20260425T150000
DTEND;TZID=Europe/Berlin:20260425T160000
LOCATION:Conference Center East\, Room London
ORGANIZER;CN=Fairnamic GmbH:mailto:info@fairnamic.com
END:VEVENT
BEGIN:VTIMEZONE
TZID:Europe/Berlin
BEGIN:STANDARD
DTSTART:20260101T000000
TZNAME:CET
TZOFFSETTO:+0100
TZOFFSETFROM:+0100
END:STANDARD
BEGIN:DAYLIGHT
DTSTART:20260329T030000
TZNAME:CEST
TZOFFSETTO:+0200
TZOFFSETFROM:+0100
END:DAYLIGHT
BEGIN:STANDARD
DTSTART:20261025T020000
TZNAME:CET
TZOFFSETTO:+0100
TZOFFSETFROM:+0200
END:STANDARD
END:VTIMEZONE
END:VCALENDAR
