BEGIN:VCALENDAR
PRODID:-//eluceo/ical//2.0/EN
VERSION:2.0
CALSCALE:GREGORIAN
BEGIN:VEVENT
UID:ea222a41e31b991e072bb38c68285cb3
DTSTAMP:20260423T105205Z
SUMMARY:AERO 2026 | Buchvorstellung: Einsatz! Hubschrauberpiloten berichten
  aus dem Cockpit mit Autor Johannes Karl
DESCRIPTION:Daily program AERO 2026 - Buchvorstellung: Einsatz! Hubschraube
 rpiloten berichten aus dem Cockpit mit Autor Johannes Karl\nLocation: Stan
 d: B5-203h / Abgehoben - Hubschrauber Podcast\n\nFairnamic GmbH\nNeue Mess
 e 1 \n88046 Friedrichshafen \nGermany \n\nPhone +49 7541 959 95 0 \nFax +4
 9 7541 959 95 10 \n\nGoogle Maps Route: \nhttp://goo.gl/maps/wXSL8
DTSTART;TZID=Europe/Berlin:20260423T100000
DTEND;TZID=Europe/Berlin:20260423T103000
LOCATION:Stand: B5-203h / Abgehoben - Hubschrauber Podcast
ORGANIZER;CN=Fairnamic GmbH:mailto:info@fairnamic.com
END:VEVENT
BEGIN:VTIMEZONE
TZID:Europe/Berlin
BEGIN:STANDARD
DTSTART:20260101T000000
TZNAME:CET
TZOFFSETTO:+0100
TZOFFSETFROM:+0100
END:STANDARD
BEGIN:DAYLIGHT
DTSTART:20260329T030000
TZNAME:CEST
TZOFFSETTO:+0200
TZOFFSETFROM:+0100
END:DAYLIGHT
BEGIN:STANDARD
DTSTART:20261025T020000
TZNAME:CET
TZOFFSETTO:+0100
TZOFFSETFROM:+0200
END:STANDARD
END:VTIMEZONE
END:VCALENDAR
